BEGIN:VCALENDAR
VERSION:2.0
PRODID:-//The CMNMG - ECPv6.15.20//NONSGML v1.0//EN
CALSCALE:GREGORIAN
METHOD:PUBLISH
X-ORIGINAL-URL:https://cmnmg.org
X-WR-CALDESC:Events for The CMNMG
REFRESH-INTERVAL;VALUE=DURATION:PT1H
X-Robots-Tag:noindex
X-PUBLISHED-TTL:PT1H
BEGIN:VTIMEZONE
TZID:UTC
BEGIN:STANDARD
TZOFFSETFROM:+0000
TZOFFSETTO:+0000
TZNAME:UTC
DTSTART:20230101T000000
END:STANDARD
END:VTIMEZONE
BEGIN:VEVENT
DTSTART;TZID=UTC:20240805T090000
DTEND;TZID=UTC:20240809T150000
DTSTAMP:20260421T070827
CREATED:20240630T183121Z
LAST-MODIFIED:20240630T183357Z
UID:1122-1722848400-1723215600@cmnmg.org
SUMMARY:6th Annual STEM-to-STEAM Summer Camp
DESCRIPTION:Join Our 6th Annual Summer Camp!\n			\n				\n				\n				\n				\n				STEM-to-STEAM Camp: It's All in the Garden Summer Camp | Aug. 5 - 9\n			\n				\n				\n				\n				\n				Empower your child’s future with our engaging and educational summer camp! \n			\n				Learn More\n			\n			\n				\n				\n				\n				\n			\n				\n				\n				\n				\n				\n				\n				\n				\n				\n				\n				Inspire the Next Generation of Innovators\n			\n			\n				\n				\n				\n				\n				\n				Register Now
URL:https://cmnmg.org/event/6th-annual-stem-to-steam-summer-camp/
LOCATION:CCAF Columbus\, 1200 Brentnell Ave.\, Columbus\, OH\, 43219\, United States
ATTACH;FMTTYPE=image/jpeg:https://cmnmg.org/wp-content/uploads/2024/06/garden-camp-scaled.jpg
ORGANIZER;CN="Damon Nabrit":MAILTO:damon@telosinc.org
END:VEVENT
BEGIN:VEVENT
DTSTART;TZID=UTC:20240707T100000
DTEND;TZID=UTC:20240707T130000
DTSTAMP:20260421T070827
CREATED:20240701T222513Z
LAST-MODIFIED:20240701T222513Z
UID:1168-1720346400-1720357200@cmnmg.org
SUMMARY:Saturday's at the Garden
DESCRIPTION:Join us each Saturday from 10am til 1pm for ‘Saturday’s at the Garden’! Come out and volunteer\, relax\, and maybe get some freshly made pizza from our wood-burning oven! We’re here all season\, weather permitting.
URL:https://cmnmg.org/event/saturdays-at-the-garden-2/
LOCATION:The CMNMG\, 1200 Brentnell Ave.\, Columbus\, OH\, 43219\, United States
ORGANIZER;CN="Paula Penn-Nabrit":MAILTO:info@telosinc.org
END:VEVENT
BEGIN:VEVENT
DTSTART;TZID=UTC:20240609T100000
DTEND;TZID=UTC:20240609T130000
DTSTAMP:20260421T070827
CREATED:20240701T150407Z
LAST-MODIFIED:20240701T222326Z
UID:1146-1717927200-1717938000@cmnmg.org
SUMMARY:Saturday's at the Garden
DESCRIPTION:Join us each Saturday from 10am til 1pm for ‘Saturday’s at the Garden’! Come out and volunteer\, relax\, and maybe get some freshly made pizza from our wood-burning oven! We’re here all season\, weather permitting.
URL:https://cmnmg.org/event/saturdays-at-the-garden/
LOCATION:The CMNMG\, 1200 Brentnell Ave.\, Columbus\, OH\, 43219\, United States
ATTACH;FMTTYPE=image/jpeg:https://cmnmg.org/wp-content/uploads/2023/07/5dc79-dfb94a_73bbf08754e7402a8e507fa437b28ca4mv2-1.jpg
ORGANIZER;CN="Damon Nabrit":MAILTO:damon@telosinc.org
END:VEVENT
END:VCALENDAR